Package: coGPS Version: 1.51.0 Command: /home/biocbuild/bbs-3.21-bioc/R/bin/R CMD build --keep-empty-dirs --no-resave-data coGPS StartedAt: 2025-02-09 16:43:57 -0500 (Sun, 09 Feb 2025) EndedAt: 2025-02-09 16:44:07 -0500 (Sun, 09 Feb 2025) EllapsedTime: 10.0 seconds RetCode: 0 Status: OK PackageFile: coGPS_1.51.0.tar.gz PackageFileSize: 1.761 MiB