Package: coGPS Version: 1.51.0 Command: /home/biocbuild/bbs-3.21-bioc/R/bin/R CMD INSTALL coGPS StartedAt: 2025-02-09 15:03:18 -0500 (Sun, 09 Feb 2025) EndedAt: 2025-02-09 15:03:32 -0500 (Sun, 09 Feb 2025) EllapsedTime: 13.3 seconds RetCode: 0 Status: OK