Package: coGPS Version: 1.51.0 Command: rm -rf coGPS.buildbin-libdir && mkdir coGPS.buildbin-libdir && E:\biocbuild\bbs-3.21-bioc\R\bin\R.exe CMD INSTALL --build --library=coGPS.buildbin-libdir coGPS_1.51.0.tar.gz StartedAt: 2025-02-05 07:41:37 -0500 (Wed, 05 Feb 2025) EndedAt: 2025-02-05 07:41:45 -0500 (Wed, 05 Feb 2025) EllapsedTime: 7.7 seconds RetCode: 0 Status: OK PackageFile: coGPS_1.51.0.zip PackageFileSize: 1.671 MiB