Package: coGPS Version: 1.51.0 Command: E:\biocbuild\bbs-3.21-bioc\R\bin\R.exe CMD check --no-multiarch --install=check:coGPS.install-out.txt --library=E:\biocbuild\bbs-3.21-bioc\R\library --no-vignettes --timings coGPS_1.51.0.tar.gz StartedAt: 2025-02-05 00:18:23 -0500 (Wed, 05 Feb 2025) EndedAt: 2025-02-05 00:19:07 -0500 (Wed, 05 Feb 2025) EllapsedTime: 44.0 seconds RetCode: 0 Status: OK CheckDir: coGPS.Rcheck Warnings: 0