Package: coMET Version: 1.39.0 Command: /Library/Frameworks/R.framework/Resources/bin/R CMD build --keep-empty-dirs --no-resave-data coMET StartedAt: 2025-02-09 15:57:22 -0500 (Sun, 09 Feb 2025) EndedAt: 2025-02-09 15:58:42 -0500 (Sun, 09 Feb 2025) EllapsedTime: 79.9 seconds RetCode: 0 Status: OK PackageFile: coMET_1.39.0.tar.gz PackageFileSize: 21.83 MiB