Package: coMET Version: 1.39.0 Command: /home/biocbuild/R/R/bin/R CMD INSTALL coMET StartedAt: 2025-01-29 20:09:58 -0000 (Wed, 29 Jan 2025) EndedAt: 2025-01-29 20:11:16 -0000 (Wed, 29 Jan 2025) EllapsedTime: 78.0 seconds RetCode: 0 Status: OK