Package: coMET Version: 1.39.0 Command: rm -rf coMET.buildbin-libdir && mkdir coMET.buildbin-libdir && /Users/biocbuild/BBS/utils/build-universal.sh coMET_1.39.0.tar.gz /Library/Frameworks/R.framework/Resources/bin/R coMET.buildbin-libdir StartedAt: 2025-02-10 00:47:48 -0500 (Mon, 10 Feb 2025) EndedAt: 2025-02-10 00:49:09 -0500 (Mon, 10 Feb 2025) EllapsedTime: 81.8 seconds RetCode: 0 Status: OK PackageFile: coMET_1.39.0.tgz PackageFileSize: 21.82 MiB