Package: coMET Version: 1.39.0 Command: /Library/Frameworks/R.framework/Resources/bin/R CMD build --keep-empty-dirs --no-resave-data coMET StartedAt: 2025-02-12 16:18:27 -0500 (Wed, 12 Feb 2025) EndedAt: 2025-02-12 16:21:21 -0500 (Wed, 12 Feb 2025) EllapsedTime: 173.7 seconds RetCode: 0 Status: OK PackageFile: coMET_1.39.0.tar.gz PackageFileSize: 21.83 MiB