Package: coMET Version: 1.39.0 Command: /home/biocbuild/bbs-3.21-bioc/R/bin/R CMD check --install=check:coMET.install-out.txt --library=/home/biocbuild/bbs-3.21-bioc/R/site-library --timings coMET_1.39.0.tar.gz StartedAt: 2025-02-09 21:07:01 -0500 (Sun, 09 Feb 2025) EndedAt: 2025-02-09 21:16:40 -0500 (Sun, 09 Feb 2025) EllapsedTime: 578.8 seconds RetCode: 1 Status: ERROR CheckDir: coMET.Rcheck Warnings: NA