Package: coMET Version: 1.39.0 Command: E:\biocbuild\bbs-3.21-bioc\R\bin\R.exe CMD check --no-multiarch --install=check:coMET.install-out.txt --library=E:\biocbuild\bbs-3.21-bioc\R\library --no-vignettes --timings coMET_1.39.0.tar.gz StartedAt: 2025-02-09 23:51:41 -0500 (Sun, 09 Feb 2025) EndedAt: 2025-02-10 00:01:11 -0500 (Mon, 10 Feb 2025) EllapsedTime: 569.3 seconds RetCode: 1 Status: ERROR CheckDir: coMET.Rcheck Warnings: NA