Package: coMethDMR Version: 1.11.0 Command: /Library/Frameworks/R.framework/Resources/bin/R CMD INSTALL coMethDMR StartedAt: 2025-02-03 15:47:59 -0500 (Mon, 03 Feb 2025) EndedAt: 2025-02-03 15:48:17 -0500 (Mon, 03 Feb 2025) EllapsedTime: 18.3 seconds RetCode: 0 Status: OK