Package: coMethDMR Version: 1.11.0 Command: rm -rf coMethDMR.buildbin-libdir && mkdir coMethDMR.buildbin-libdir && /Users/biocbuild/BBS/utils/build-universal.sh coMethDMR_1.11.0.tar.gz /Library/Frameworks/R.framework/Resources/bin/R coMethDMR.buildbin-libdir StartedAt: 2025-02-10 00:47:50 -0500 (Mon, 10 Feb 2025) EndedAt: 2025-02-10 00:48:54 -0500 (Mon, 10 Feb 2025) EllapsedTime: 64.4 seconds RetCode: 0 Status: OK PackageFile: coMethDMR_1.11.0.tgz PackageFileSize: 3.174 MiB