Package: coMethDMR Version: 1.11.0 Command: /Library/Frameworks/R.framework/Resources/bin/R CMD INSTALL coMethDMR StartedAt: 2025-02-09 15:19:24 -0500 (Sun, 09 Feb 2025) EndedAt: 2025-02-09 15:20:24 -0500 (Sun, 09 Feb 2025) EllapsedTime: 60.3 seconds RetCode: 0 Status: OK