Package: coMethDMR Version: 1.11.0 Command: rm -rf coMethDMR.buildbin-libdir && mkdir coMethDMR.buildbin-libdir && E:\biocbuild\bbs-3.21-bioc\R\bin\R.exe CMD INSTALL --build --library=coMethDMR.buildbin-libdir coMethDMR_1.11.0.tar.gz StartedAt: 2025-02-10 07:30:25 -0500 (Mon, 10 Feb 2025) EndedAt: 2025-02-10 07:31:40 -0500 (Mon, 10 Feb 2025) EllapsedTime: 74.9 seconds RetCode: 0 Status: OK PackageFile: coMethDMR_1.11.0.zip PackageFileSize: 3.157 MiB