Package: coMethDMR Version: 1.11.0 Command: chmod a+r coMethDMR -R && E:\biocbuild\bbs-3.21-bioc\R\bin\R.exe CMD build --keep-empty-dirs --no-resave-data coMethDMR StartedAt: 2025-02-09 17:59:49 -0500 (Sun, 09 Feb 2025) EndedAt: 2025-02-09 18:06:33 -0500 (Sun, 09 Feb 2025) EllapsedTime: 405.0 seconds RetCode: 0 Status: OK PackageFile: coMethDMR_1.11.0.tar.gz PackageFileSize: 3.073 MiB