Package: coMethDMR Version: 1.11.0 Command: E:\biocbuild\bbs-3.21-bioc\R\bin\R.exe CMD check --no-multiarch --install=check:coMethDMR.install-out.txt --library=E:\biocbuild\bbs-3.21-bioc\R\library --no-vignettes --timings coMethDMR_1.11.0.tar.gz StartedAt: 2025-02-09 23:51:52 -0500 (Sun, 09 Feb 2025) EndedAt: 2025-02-10 00:03:14 -0500 (Mon, 10 Feb 2025) EllapsedTime: 682.3 seconds RetCode: 0 Status: OK CheckDir: coMethDMR.Rcheck Warnings: 0