Package: coMethDMR Version: 1.11.0 Command: E:\biocbuild\bbs-3.21-bioc\R\bin\R.exe CMD INSTALL coMethDMR StartedAt: 2025-02-03 16:39:31 -0500 (Mon, 03 Feb 2025) EndedAt: 2025-02-03 16:40:32 -0500 (Mon, 03 Feb 2025) EllapsedTime: 61.4 seconds RetCode: 0 Status: OK