Package: coRdon Version: 1.25.0 Command: /Library/Frameworks/R.framework/Resources/bin/R CMD build --keep-empty-dirs --no-resave-data coRdon StartedAt: 2025-02-12 15:59:41 -0500 (Wed, 12 Feb 2025) EndedAt: 2025-02-12 16:00:00 -0500 (Wed, 12 Feb 2025) EllapsedTime: 19.2 seconds RetCode: 0 Status: OK PackageFile: coRdon_1.25.0.tar.gz PackageFileSize: 2.365 MiB