Package: coRdon Version: 1.25.0 Command: /Library/Frameworks/R.framework/Resources/bin/R CMD check --install=check:coRdon.install-out.txt --library=/Library/Frameworks/R.framework/Resources/library --no-vignettes --timings coRdon_1.25.0.tar.gz StartedAt: 2025-02-09 18:40:22 -0500 (Sun, 09 Feb 2025) EndedAt: 2025-02-09 18:41:05 -0500 (Sun, 09 Feb 2025) EllapsedTime: 43.5 seconds RetCode: 0 Status: OK CheckDir: coRdon.Rcheck Warnings: 0