Package: coRdon Version: 1.25.0 Command: /home/biocbuild/R/R/bin/R CMD INSTALL coRdon StartedAt: 2025-01-29 19:37:57 -0000 (Wed, 29 Jan 2025) EndedAt: 2025-01-29 19:38:17 -0000 (Wed, 29 Jan 2025) EllapsedTime: 20.5 seconds RetCode: 0 Status: OK