Package: coRdon Version: 1.25.0 Command: /home/biocbuild/bbs-3.21-bioc/R/bin/R CMD build --keep-empty-dirs --no-resave-data coRdon StartedAt: 2025-02-12 16:43:40 -0500 (Wed, 12 Feb 2025) EndedAt: 2025-02-12 16:44:25 -0500 (Wed, 12 Feb 2025) EllapsedTime: 45.0 seconds RetCode: 0 Status: OK PackageFile: coRdon_1.25.0.tar.gz PackageFileSize: 2.2 MiB