Package: coRdon Version: 1.25.0 Command: /home/biocbuild/bbs-3.21-bioc/R/bin/R CMD check --install=check:coRdon.install-out.txt --library=/home/biocbuild/bbs-3.21-bioc/R/site-library --timings coRdon_1.25.0.tar.gz StartedAt: 2025-02-09 21:12:16 -0500 (Sun, 09 Feb 2025) EndedAt: 2025-02-09 21:14:33 -0500 (Sun, 09 Feb 2025) EllapsedTime: 137.2 seconds RetCode: 0 Status: OK CheckDir: coRdon.Rcheck Warnings: 0