Package: coRdon Version: 1.25.0 Command: chmod a+r coRdon -R && E:\biocbuild\bbs-3.21-bioc\R\bin\R.exe CMD build --keep-empty-dirs --no-resave-data coRdon StartedAt: 2025-02-09 18:03:23 -0500 (Sun, 09 Feb 2025) EndedAt: 2025-02-09 18:04:37 -0500 (Sun, 09 Feb 2025) EllapsedTime: 74.5 seconds RetCode: 0 Status: OK PackageFile: coRdon_1.25.0.tar.gz PackageFileSize: 1.051 MiB