Package: coRdon Version: 1.25.0 Command: E:\biocbuild\bbs-3.21-bioc\R\bin\R.exe CMD check --no-multiarch --install=check:coRdon.install-out.txt --library=E:\biocbuild\bbs-3.21-bioc\R\library --no-vignettes --timings coRdon_1.25.0.tar.gz StartedAt: 2025-02-09 23:57:15 -0500 (Sun, 09 Feb 2025) EndedAt: 2025-02-09 23:59:40 -0500 (Sun, 09 Feb 2025) EllapsedTime: 144.9 seconds RetCode: 0 Status: OK CheckDir: coRdon.Rcheck Warnings: 0