Package: codelink Version: 1.75.0 Command: /home/biocbuild/R/R/bin/R CMD build --keep-empty-dirs --no-resave-data codelink StartedAt: 2025-01-28 22:01:00 -0000 (Tue, 28 Jan 2025) EndedAt: 2025-01-28 22:01:42 -0000 (Tue, 28 Jan 2025) EllapsedTime: 42.0 seconds RetCode: 0 Status: OK PackageFile: codelink_1.75.0.tar.gz PackageFileSize: 3.289 MiB