Package: codelink Version: 1.75.0 Command: /home/biocbuild/R/R/bin/R CMD INSTALL codelink StartedAt: 2025-01-29 19:52:09 -0000 (Wed, 29 Jan 2025) EndedAt: 2025-01-29 19:52:33 -0000 (Wed, 29 Jan 2025) EllapsedTime: 23.7 seconds RetCode: 0 Status: OK