Package: codelink Version: 1.75.0 Command: /Library/Frameworks/R.framework/Resources/bin/R CMD build --keep-empty-dirs --no-resave-data codelink StartedAt: 2025-02-09 16:20:23 -0500 (Sun, 09 Feb 2025) EndedAt: 2025-02-09 16:21:09 -0500 (Sun, 09 Feb 2025) EllapsedTime: 45.8 seconds RetCode: 0 Status: OK PackageFile: codelink_1.75.0.tar.gz PackageFileSize: 3.182 MiB