Package: codelink Version: 1.75.0 Command: /Library/Frameworks/R.framework/Resources/bin/R CMD check --install=check:codelink.install-out.txt --library=/Library/Frameworks/R.framework/Resources/library --no-vignettes --timings codelink_1.75.0.tar.gz StartedAt: 2025-02-09 19:52:28 -0500 (Sun, 09 Feb 2025) EndedAt: 2025-02-09 19:54:44 -0500 (Sun, 09 Feb 2025) EllapsedTime: 136.7 seconds RetCode: 0 Status: OK CheckDir: codelink.Rcheck Warnings: 0