Package: codelink Version: 1.75.0 Command: rm -rf codelink.buildbin-libdir && mkdir codelink.buildbin-libdir && E:\biocbuild\bbs-3.21-bioc\R\bin\R.exe CMD INSTALL --build --library=codelink.buildbin-libdir codelink_1.75.0.tar.gz StartedAt: 2025-02-10 07:30:02 -0500 (Mon, 10 Feb 2025) EndedAt: 2025-02-10 07:31:05 -0500 (Mon, 10 Feb 2025) EllapsedTime: 63.1 seconds RetCode: 0 Status: OK PackageFile: codelink_1.75.0.zip PackageFileSize: 3.576 MiB