Package: codelink Version: 1.75.0 Command: chmod a+r codelink -R && E:\biocbuild\bbs-3.21-bioc\R\bin\R.exe CMD build --keep-empty-dirs --no-resave-data codelink StartedAt: 2025-02-09 17:57:55 -0500 (Sun, 09 Feb 2025) EndedAt: 2025-02-09 17:58:50 -0500 (Sun, 09 Feb 2025) EllapsedTime: 54.7 seconds RetCode: 0 Status: OK PackageFile: codelink_1.75.0.tar.gz PackageFileSize: 3.182 MiB