Package: cogena Version: 1.41.0 Maintainer: Zhilong Jia MaintainerEmail: zhilongjia at gmail.com git_url: https://git.bioconductor.org/packages/cogena git_branch: devel git_last_commit: 06f4d8f git_last_commit_date: 2024-10-29 10:00:20 -0500 (Tue, 29 Oct 2024)