Package: cogena Version: 1.41.0 Command: rm -rf cogena.buildbin-libdir && mkdir cogena.buildbin-libdir && /Users/biocbuild/BBS/utils/build-universal.sh cogena_1.41.0.tar.gz /Library/Frameworks/R.framework/Resources/bin/R cogena.buildbin-libdir StartedAt: 2025-02-04 22:11:54 -0500 (Tue, 04 Feb 2025) EndedAt: 2025-02-04 22:12:01 -0500 (Tue, 04 Feb 2025) EllapsedTime: 7.2 seconds RetCode: 0 Status: OK PackageFile: cogena_1.41.0.tgz PackageFileSize: 7.699 MiB