Package: cogena Version: 1.41.0 Command: /Library/Frameworks/R.framework/Resources/bin/R CMD check --install=check:cogena.install-out.txt --library=/Library/Frameworks/R.framework/Resources/library --no-vignettes --timings cogena_1.41.0.tar.gz StartedAt: 2025-02-04 18:37:44 -0500 (Tue, 04 Feb 2025) EndedAt: 2025-02-04 18:39:04 -0500 (Tue, 04 Feb 2025) EllapsedTime: 80.9 seconds RetCode: 0 Status: WARNINGS CheckDir: cogena.Rcheck Warnings: 1