Package: cogena Version: 1.41.0 Command: /home/biocbuild/R/R/bin/R CMD build --keep-empty-dirs --no-resave-data cogena StartedAt: 2025-01-28 22:01:20 -0000 (Tue, 28 Jan 2025) EndedAt: 2025-01-28 22:06:19 -0000 (Tue, 28 Jan 2025) EllapsedTime: 299.1 seconds RetCode: 0 Status: OK PackageFile: cogena_1.41.0.tar.gz PackageFileSize: 6.411 MiB