Package: cogena Version: 1.41.0 Command: /home/biocbuild/bbs-3.21-bioc/R/bin/R CMD INSTALL cogena StartedAt: 2025-02-04 15:12:25 -0500 (Tue, 04 Feb 2025) EndedAt: 2025-02-04 15:12:38 -0500 (Tue, 04 Feb 2025) EllapsedTime: 13.4 seconds RetCode: 0 Status: OK