Package: cogena Version: 1.41.0 Command: rm -rf cogena.buildbin-libdir && mkdir cogena.buildbin-libdir && E:\biocbuild\bbs-3.21-bioc\R\bin\R.exe CMD INSTALL --build --library=cogena.buildbin-libdir cogena_1.41.0.tar.gz StartedAt: 2025-02-05 07:41:27 -0500 (Wed, 05 Feb 2025) EndedAt: 2025-02-05 07:42:01 -0500 (Wed, 05 Feb 2025) EllapsedTime: 34.1 seconds RetCode: 0 Status: OK PackageFile: cogena_1.41.0.zip PackageFileSize: 6.666 MiB