Package: cogena Version: 1.41.0 Command: chmod a+r cogena -R && E:\biocbuild\bbs-3.21-bioc\R\bin\R.exe CMD build --keep-empty-dirs --no-resave-data cogena StartedAt: 2025-02-04 17:57:00 -0500 (Tue, 04 Feb 2025) EndedAt: 2025-02-04 18:00:58 -0500 (Tue, 04 Feb 2025) EllapsedTime: 238.5 seconds RetCode: 0 Status: OK PackageFile: cogena_1.41.0.tar.gz PackageFileSize: 6.472 MiB