Package: cogena Version: 1.41.0 Command: E:\biocbuild\bbs-3.21-bioc\R\bin\R.exe CMD check --no-multiarch --install=check:cogena.install-out.txt --library=E:\biocbuild\bbs-3.21-bioc\R\library --no-vignettes --timings cogena_1.41.0.tar.gz StartedAt: 2025-02-05 00:17:40 -0500 (Wed, 05 Feb 2025) EndedAt: 2025-02-05 00:21:52 -0500 (Wed, 05 Feb 2025) EllapsedTime: 252.3 seconds RetCode: 0 Status: WARNINGS CheckDir: cogena.Rcheck Warnings: 1