Package: cogeqc Version: 1.11.0 Command: rm -rf cogeqc.buildbin-libdir && mkdir cogeqc.buildbin-libdir && /Users/biocbuild/BBS/utils/build-universal.sh cogeqc_1.11.0.tar.gz /Library/Frameworks/R.framework/Resources/bin/R cogeqc.buildbin-libdir StartedAt: 2025-02-03 22:45:54 -0500 (Mon, 03 Feb 2025) EndedAt: 2025-02-03 22:46:00 -0500 (Mon, 03 Feb 2025) EllapsedTime: 6.1 seconds RetCode: 0 Status: OK PackageFile: cogeqc_1.11.0.tgz PackageFileSize: 3.4 MiB