Package: cogeqc Version: 1.11.0 Command: /Library/Frameworks/R.framework/Resources/bin/R CMD build --keep-empty-dirs --no-resave-data cogeqc StartedAt: 2025-02-09 16:20:28 -0500 (Sun, 09 Feb 2025) EndedAt: 2025-02-09 16:22:18 -0500 (Sun, 09 Feb 2025) EllapsedTime: 109.8 seconds RetCode: 0 Status: OK PackageFile: cogeqc_1.11.0.tar.gz PackageFileSize: 3.314 MiB