Package: cogeqc Version: 1.11.0 Command: /Library/Frameworks/R.framework/Resources/bin/R CMD check --install=check:cogeqc.install-out.txt --library=/Library/Frameworks/R.framework/Resources/library --no-vignettes --timings cogeqc_1.11.0.tar.gz StartedAt: 2025-02-03 19:43:42 -0500 (Mon, 03 Feb 2025) EndedAt: 2025-02-03 19:46:25 -0500 (Mon, 03 Feb 2025) EllapsedTime: 163.2 seconds RetCode: 0 Status: OK CheckDir: cogeqc.Rcheck Warnings: 0