Package: cogeqc Version: 1.11.0 Command: /Library/Frameworks/R.framework/Resources/bin/R CMD INSTALL cogeqc StartedAt: 2025-02-09 15:17:18 -0500 (Sun, 09 Feb 2025) EndedAt: 2025-02-09 15:17:38 -0500 (Sun, 09 Feb 2025) EllapsedTime: 20.1 seconds RetCode: 0 Status: OK