Package: cogeqc Version: 1.11.0 Command: /home/biocbuild/bbs-3.21-bioc/R/bin/R CMD build --keep-empty-dirs --no-resave-data cogeqc StartedAt: 2025-02-09 16:43:44 -0500 (Sun, 09 Feb 2025) EndedAt: 2025-02-09 16:45:19 -0500 (Sun, 09 Feb 2025) EllapsedTime: 95.1 seconds RetCode: 0 Status: OK PackageFile: cogeqc_1.11.0.tar.gz PackageFileSize: 3.203 MiB