Package: cogeqc Version: 1.11.0 Command: E:\biocbuild\bbs-3.21-bioc\R\bin\R.exe CMD check --no-multiarch --install=check:cogeqc.install-out.txt --library=E:\biocbuild\bbs-3.21-bioc\R\library --no-vignettes --timings cogeqc_1.11.0.tar.gz StartedAt: 2025-02-09 23:50:02 -0500 (Sun, 09 Feb 2025) EndedAt: 2025-02-09 23:52:54 -0500 (Sun, 09 Feb 2025) EllapsedTime: 172.0 seconds RetCode: 0 Status: OK CheckDir: cogeqc.Rcheck Warnings: 0