Package: comapr Version: 1.11.1 Command: /Library/Frameworks/R.framework/Resources/bin/R CMD INSTALL comapr StartedAt: 2025-02-09 15:28:28 -0500 (Sun, 09 Feb 2025) EndedAt: 2025-02-09 15:29:36 -0500 (Sun, 09 Feb 2025) EllapsedTime: 68.2 seconds RetCode: 0 Status: OK