Package: comapr Version: 1.11.1 Command: /home/biocbuild/bbs-3.21-bioc/R/bin/R CMD build --keep-empty-dirs --no-resave-data comapr StartedAt: 2025-02-09 16:44:16 -0500 (Sun, 09 Feb 2025) EndedAt: 2025-02-09 16:45:40 -0500 (Sun, 09 Feb 2025) EllapsedTime: 84.1 seconds RetCode: 0 Status: OK PackageFile: comapr_1.11.1.tar.gz PackageFileSize: 1.002 MiB