Package: comapr Version: 1.11.1 Command: chmod a+r comapr -R && E:\biocbuild\bbs-3.21-bioc\R\bin\R.exe CMD build --keep-empty-dirs --no-resave-data comapr StartedAt: 2025-02-09 17:59:27 -0500 (Sun, 09 Feb 2025) EndedAt: 2025-02-09 18:01:31 -0500 (Sun, 09 Feb 2025) EllapsedTime: 124.6 seconds RetCode: 0 Status: OK PackageFile: comapr_1.11.1.tar.gz PackageFileSize: 634.4 KiB