Package: comapr Version: 1.11.1 Command: E:\biocbuild\bbs-3.21-bioc\R\bin\R.exe CMD check --no-multiarch --install=check:comapr.install-out.txt --library=E:\biocbuild\bbs-3.21-bioc\R\library --no-vignettes --timings comapr_1.11.1.tar.gz StartedAt: 2025-02-13 00:00:14 -0500 (Thu, 13 Feb 2025) EndedAt: 2025-02-13 00:10:02 -0500 (Thu, 13 Feb 2025) EllapsedTime: 588.7 seconds RetCode: 0 Status: OK CheckDir: comapr.Rcheck Warnings: 0