Package: comapr Version: 1.11.1 Command: E:\biocbuild\bbs-3.21-bioc\R\bin\R.exe CMD INSTALL comapr StartedAt: 2025-02-09 16:44:05 -0500 (Sun, 09 Feb 2025) EndedAt: 2025-02-09 16:45:15 -0500 (Sun, 09 Feb 2025) EllapsedTime: 69.4 seconds RetCode: 0 Status: OK