Package: combi Version: 1.19.0 Command: rm -rf combi.buildbin-libdir && mkdir combi.buildbin-libdir && /Users/biocbuild/BBS/utils/build-universal.sh combi_1.19.0.tar.gz /Library/Frameworks/R.framework/Resources/bin/R combi.buildbin-libdir StartedAt: 2025-02-09 22:10:09 -0500 (Sun, 09 Feb 2025) EndedAt: 2025-02-09 22:10:23 -0500 (Sun, 09 Feb 2025) EllapsedTime: 14.3 seconds RetCode: 0 Status: OK PackageFile: combi_1.19.0.tgz PackageFileSize: 1.712 MiB